BEGIN:VCALENDAR
VERSION:2.0
PRODID:-//hacksw/handcal//NONSGML v1.0//EN
BEGIN:VEVENT
SUMMARY:Challenge Omnisports
UID:20c74add-a7fe-4490-9edd-9132f4793a8c
DTSTART:20260319T090000Z
DTEND:20260319T153000Z
LOCATION:Localisation Stade de ma ville 72000 LE MANS
CATEGORIES:Sportif
STATUS:
DESCRIPTION:<p>Le challenge Omnisports organise par le club debutera
 sur le grand stade de la ville.<br>Les prix seront remis en
 soiree.</p>
URL;VALUE=URI:https://veloce-club-montalbanais.sportsregions.fr/evenements/2026/03/19/challenge-omnisports-2430332
END:VEVENT
END:VCALENDAR
